BEGIN:VCALENDAR
VERSION:2.0
PRODID:-//TYPO3/NONSGML News system (news)//EN
CALSCALE:GREGORIAN
METHOD:PUBLISH
BEGIN:VEVENT
UID:news-116439@ebenthal-kaernten.gv.at

DTSTAMP:20260421T133359Z



DTSTART;TZID=Europe/Vienna:20260426T180000
DTEND;TZID=Europe/Vienna:20260426T200000

SUMMARY:Kammerkonzert
DESCRIPTION:

LOCATION:Oremushaus


END:VEVENT
END:VCALENDAR
